BEGIN:VCALENDAR
VERSION:2.0
PRODID:-//Ronald McDonald House Charities - ECPv6.15.20//NONSGML v1.0//EN
CALSCALE:GREGORIAN
METHOD:PUBLISH
X-ORIGINAL-URL:https://rmhc-easternwi.org
X-WR-CALDESC:Events for Ronald McDonald House Charities
REFRESH-INTERVAL;VALUE=DURATION:PT1H
X-Robots-Tag:noindex
X-PUBLISHED-TTL:PT1H
BEGIN:VTIMEZONE
TZID:America/Chicago
BEGIN:DAYLIGHT
TZOFFSETFROM:-0600
TZOFFSETTO:-0500
TZNAME:CDT
DTSTART:20180311T080000
END:DAYLIGHT
BEGIN:STANDARD
TZOFFSETFROM:-0500
TZOFFSETTO:-0600
TZNAME:CST
DTSTART:20181104T070000
END:STANDARD
BEGIN:DAYLIGHT
TZOFFSETFROM:-0600
TZOFFSETTO:-0500
TZNAME:CDT
DTSTART:20190310T080000
END:DAYLIGHT
BEGIN:STANDARD
TZOFFSETFROM:-0500
TZOFFSETTO:-0600
TZNAME:CST
DTSTART:20191103T070000
END:STANDARD
BEGIN:DAYLIGHT
TZOFFSETFROM:-0600
TZOFFSETTO:-0500
TZNAME:CDT
DTSTART:20200308T080000
END:DAYLIGHT
BEGIN:STANDARD
TZOFFSETFROM:-0500
TZOFFSETTO:-0600
TZNAME:CST
DTSTART:20201101T070000
END:STANDARD
BEGIN:DAYLIGHT
TZOFFSETFROM:-0600
TZOFFSETTO:-0500
TZNAME:CDT
DTSTART:20210314T080000
END:DAYLIGHT
BEGIN:STANDARD
TZOFFSETFROM:-0500
TZOFFSETTO:-0600
TZNAME:CST
DTSTART:20211107T070000
END:STANDARD
BEGIN:DAYLIGHT
TZOFFSETFROM:-0600
TZOFFSETTO:-0500
TZNAME:CDT
DTSTART:20220313T080000
END:DAYLIGHT
BEGIN:STANDARD
TZOFFSETFROM:-0500
TZOFFSETTO:-0600
TZNAME:CST
DTSTART:20221106T070000
END:STANDARD
BEGIN:DAYLIGHT
TZOFFSETFROM:-0600
TZOFFSETTO:-0500
TZNAME:CDT
DTSTART:20230312T080000
END:DAYLIGHT
BEGIN:STANDARD
TZOFFSETFROM:-0500
TZOFFSETTO:-0600
TZNAME:CST
DTSTART:20231105T070000
END:STANDARD
BEGIN:DAYLIGHT
TZOFFSETFROM:-0600
TZOFFSETTO:-0500
TZNAME:CDT
DTSTART:20240310T080000
END:DAYLIGHT
BEGIN:STANDARD
TZOFFSETFROM:-0500
TZOFFSETTO:-0600
TZNAME:CST
DTSTART:20241103T070000
END:STANDARD
END:VTIMEZONE
BEGIN:VEVENT
DTSTART;TZID=America/Chicago:20231202T160000
DTEND;TZID=America/Chicago:20231202T220000
DTSTAMP:20260425T173724
CREATED:20231116T193115Z
LAST-MODIFIED:20231116T193115Z
UID:25192-1701532800-1701554400@rmhc-easternwi.org
SUMMARY:Deer\, Beer\, & Cheer!
DESCRIPTION:Join us at Jack’s American Pub (1323 E Brady St\, Milwaukee\, WI 53202) for a fun night of fundraising for Ronald McDonald House while cheering on the Milwaukee Bucks basketball team take on the Atlanta Hawks!  \nExpect great music from a live DJ \, delicious food and beer from Jack’s kitchen and bar\, raffle giveaways of Bucks tickets\, Admirals tickets\, jerseys\, gift cards\, and more!  \nSo\, mark your calendars and get ready to have a blast at Deer\, Beer\, and Cheer! See you there! \n  \n 
URL:https://rmhc-easternwi.org/appointments/deer-beer-cheer/
LOCATION:Jack’s American Pub\, 1323 East Brady Street\, Milwaukee\, WI\, 53202\, United States
CATEGORIES:Community Events
ATTACH;FMTTYPE=image/jpeg:https://rmhc-easternwi.org/wp-content/uploads/2023/11/Deer-Beer-Cheer-Flyer-2.jpg
END:VEVENT
BEGIN:VEVENT
DTSTART;TZID=America/Chicago:20231202T100000
DTEND;TZID=America/Chicago:20231202T120000
DTSTAMP:20260425T173724
CREATED:20231116T184325Z
LAST-MODIFIED:20231116T184325Z
UID:25188-1701511200-1701518400@rmhc-easternwi.org
SUMMARY:Heritage Funeral Home Holiday Wish List Drive
DESCRIPTION:Calling all generous hearts! Heritage Funeral Homes hosting a Toy and Supply Drive to help the families staying at the Ronald McDonald House Charities of Eastern Wisconsin! Now is your chance to make a difference and show your love to those in need by providing items from RMHC’s 2023 Wish List. Your donation will help keep families close during the holiday season and beyond! Spread the word and let’s make this a success!\n\n\n\nDonations can be dropped off Saturday\, December 2nd\, between 10am-12pm\, at Heritage Funeral Homes (4800 S. 84th St. Greenfield\, WI 53228)\n\n\n\nTo add some Christmas joy\, we will have treats (donated by Jen’s Sweet Treats and Sconnie Apples & Treats) and Heritage Funeral Homes has donated a few large ticket items that we will be raffling off at the end of our event. You will receive a raffle ticket for every item donated off our wish list and you do not need to be present to win!
URL:https://rmhc-easternwi.org/appointments/heritage-funeral-home-holiday-wish-list-drive/
LOCATION:Heritage Funeral Home\, 4800 S. 84th St.\, Greenfield\, WI\, 53228\, United States
CATEGORIES:Community Events
ATTACH;FMTTYPE=image/jpeg:https://rmhc-easternwi.org/wp-content/uploads/2023/11/Heritage-Funeral-Home-3.jpg
END:VEVENT
BEGIN:VEVENT
DTSTART;TZID=America/Chicago:20231101T080000
DTEND;TZID=America/Chicago:20231209T170000
DTSTAMP:20260425T173724
CREATED:20231116T183353Z
LAST-MODIFIED:20231116T183353Z
UID:25181-1698825600-1702141200@rmhc-easternwi.org
SUMMARY:Barnes & Noble's Holiday Book Drive
DESCRIPTION:Every holiday season Barnes & Noble bookstores partner with customers and local charities to donate hundreds of thousands of books to people in need during a Holiday Book Drive. This year\, RMHC Eastern Wisconsin has been chosen as the benefiting charity for Barnes & Noble Mayfair’s Holiday Book Drive!  Please stop by the store to purchase a book for our children this holiday season! 
URL:https://rmhc-easternwi.org/appointments/barnes-nobles-holiday-book-drive/
LOCATION:Barnes & Noble Mayfair\, 2500 N Mayfair Rd Suite 196\, Milwaukee\, WI\, 53226\, United States
CATEGORIES:Community Events
ATTACH;FMTTYPE=image/jpeg:https://rmhc-easternwi.org/wp-content/uploads/2023/11/Barnes-Noble-Logo.jpg
END:VEVENT
BEGIN:VEVENT
DTSTART;TZID=America/Chicago:20230725T100000
DTEND;TZID=America/Chicago:20230725T200000
DTSTAMP:20260425T173724
CREATED:20230724T201808Z
LAST-MODIFIED:20230724T201808Z
UID:24975-1690279200-1690315200@rmhc-easternwi.org
SUMMARY:Christmas in July Toy Drive
DESCRIPTION:Christmas in July Toy Drive\nJuly 25\, 2023\, Tuesday\, 10a-8p\n\n\n\n\nJoin us for a special all day event benefiting Ronald McDonald House. \nOr join us in the evening for a sip-n-shop from 5p-7p \n\n\n\n\n\n\n\n\n\n\n\n\n\n\n\nEvent Details\n\n\n\n\n\n\n\n\n\n\n\n\n\nWhy Ronald McDonald House?\n\n\n\n\n\n\nRMHC never turns away any family for their inability to pay. Offering 84 guest suites for families with children receiving care at Children’s Wisconsin. Their mission is inspiring and we hope Lake and Pine can make a small difference. \nTo read more about RMHC visit https://rmhc-easternwi.org/about/our-house/ \n\n\n\n\n\n\n\n\n\n\n\n\n\n\n\n\n\n\n\n\n\n\n\n\n\n\n\n\n\n\n\n\n\nFill the MAGIC ROOM!\n\n\n\n\n\n\n\n\n\n\n\n\n\nThere’s a fun little room located inside the RMHC House\, that is filled from floor to ceiling with games\, toys\, dolls and books. This is undoubtedly every little kiddos dream.\nWhile the Holiday Season finds this space overflowing with wonderful donated games and toys\, this space can be very sparse during the summer season. \nSo grab an item or two from the list below and bring to the event for a discount.\n1 item = 10% your total sales during the event\n2+ items = 25% your total sales during the event \nItems must be brand new\, in their original packaging and unwrapped. \nWe will be collecting Toys & Books listed in the RMHC Wish List. \n\n\n\n\n\n\n\n\n\n\n\n\n\n\n\n\n\n\n\n\n\n\n\n\n\n\n\n\n\n\n\nVisit their most updated wish list by clicking below. \n\n\n\n\n\n\n\n\n\n\n\n\n\nhttps://rmhc-easternwi.org/how-to-help/wish-list/
URL:https://rmhc-easternwi.org/appointments/christmas-in-july-toy-drive/
LOCATION:Lake and Pine Co.\, 161 Wisconsin Ave #1D\, Pewaukee\, 53072\, United States
CATEGORIES:Community Events
ATTACH;FMTTYPE=image/jpeg:https://rmhc-easternwi.org/wp-content/uploads/2023/07/Xmas-in-July-Toy-Drive-Flyer-.jpg
END:VEVENT
BEGIN:VEVENT
DTSTART;TZID=America/Chicago:20230724T100000
DTEND;TZID=America/Chicago:20230929T220000
DTSTAMP:20260425T173724
CREATED:20230724T195232Z
LAST-MODIFIED:20230724T195639Z
UID:24968-1690192800-1696024800@rmhc-easternwi.org
SUMMARY:"In Dough We Grow"
DESCRIPTION:IN DOUGH WE GROW\nMonday July 24th\, 2023 to Friday\, September 29th\, 2023\n\nThis quarter\, Pizza Man is partnering with the Ronald McDonald House  Charities Eastern Wisconsin for our In Dough We Grow special. Stop in and try “The Pizza that Love Built” and 100% of the proceeds benefit RMHC! The pizza is made with Pizza Man secret sauce\, mozzarella\, cheddar\, tomato\, pickles\, red onion\, ground beef\, topped with fries.
URL:https://rmhc-easternwi.org/appointments/in-dough-we-grow/
LOCATION:Pizza Man
CATEGORIES:Community Events
ATTACH;FMTTYPE=image/jpeg:https://rmhc-easternwi.org/wp-content/uploads/2023/07/Poster.jpg
END:VEVENT
BEGIN:VEVENT
DTSTART;VALUE=DATE:20201111
DTEND;VALUE=DATE:20201116
DTSTAMP:20260425T173724
CREATED:20201007T152654Z
LAST-MODIFIED:20201020T185300Z
UID:22887-1605052800-1605484799@rmhc-easternwi.org
SUMMARY:Christmas Fantasy House presents "Stuff the Stocking"
DESCRIPTION:Since there won’t be a 2020 Christmas Fantasy House\, we’re teaming up with the event committee for a Wish List drive benefitting our House! With your help\, we can “Stuff the Stocking” for guest families staying with us this holiday season. \nWhere: RMHC | 8948 W. Watertown Plank Rd. | Wauwatosa\, WI \nWhen: November 11-13 | 7:00 – 10:00 a.m. OR 3:00 – 7:00 p.m.  | November 14-15 | 12:00 – 7:00 p.m. \nAlternative Drop-Off Locations      Stuff the Stocking Wish List      Gift Acceptance Policy
URL:https://rmhc-easternwi.org/appointments/cfh2020/
LOCATION:WI
CATEGORIES:Community Events
ORGANIZER;CN="Melissa Marney":MAILTO:mmarney@rmhc-easternwi.org
END:VEVENT
BEGIN:VEVENT
DTSTART;TZID=America/Chicago:20191220T200000
DTEND;TZID=America/Chicago:20191221T000000
DTSTAMP:20260425T173724
CREATED:20191017T141437Z
LAST-MODIFIED:20191017T201220Z
UID:19630-1576872000-1576886400@rmhc-easternwi.org
SUMMARY:12 Bars of Charity Milwaukee
DESCRIPTION:Join us for a holiday pub crawl benefiting local charities\, including RMHC!\nTo purchase tickets\, please visit here.\n 
URL:https://rmhc-easternwi.org/appointments/12boc/
LOCATION:WI
CATEGORIES:Community Events
ORGANIZER;CN="Angela Gilman":MAILTO:agilman@rmhc-easternwi.org
END:VEVENT
END:VCALENDAR