BEGIN:VCALENDAR
VERSION:2.0
PRODID:-//Ronald McDonald House Charities - ECPv6.15.20//NONSGML v1.0//EN
CALSCALE:GREGORIAN
METHOD:PUBLISH
X-ORIGINAL-URL:https://rmhc-easternwi.org
X-WR-CALDESC:Events for Ronald McDonald House Charities
REFRESH-INTERVAL;VALUE=DURATION:PT1H
X-Robots-Tag:noindex
X-PUBLISHED-TTL:PT1H
BEGIN:VTIMEZONE
TZID:America/Chicago
BEGIN:DAYLIGHT
TZOFFSETFROM:-0600
TZOFFSETTO:-0500
TZNAME:CDT
DTSTART:20160313T080000
END:DAYLIGHT
BEGIN:STANDARD
TZOFFSETFROM:-0500
TZOFFSETTO:-0600
TZNAME:CST
DTSTART:20161106T070000
END:STANDARD
BEGIN:DAYLIGHT
TZOFFSETFROM:-0600
TZOFFSETTO:-0500
TZNAME:CDT
DTSTART:20170312T080000
END:DAYLIGHT
BEGIN:STANDARD
TZOFFSETFROM:-0500
TZOFFSETTO:-0600
TZNAME:CST
DTSTART:20171105T070000
END:STANDARD
BEGIN:DAYLIGHT
TZOFFSETFROM:-0600
TZOFFSETTO:-0500
TZNAME:CDT
DTSTART:20180311T080000
END:DAYLIGHT
BEGIN:STANDARD
TZOFFSETFROM:-0500
TZOFFSETTO:-0600
TZNAME:CST
DTSTART:20181104T070000
END:STANDARD
BEGIN:DAYLIGHT
TZOFFSETFROM:-0600
TZOFFSETTO:-0500
TZNAME:CDT
DTSTART:20190310T080000
END:DAYLIGHT
BEGIN:STANDARD
TZOFFSETFROM:-0500
TZOFFSETTO:-0600
TZNAME:CST
DTSTART:20191103T070000
END:STANDARD
BEGIN:DAYLIGHT
TZOFFSETFROM:-0600
TZOFFSETTO:-0500
TZNAME:CDT
DTSTART:20200308T080000
END:DAYLIGHT
BEGIN:STANDARD
TZOFFSETFROM:-0500
TZOFFSETTO:-0600
TZNAME:CST
DTSTART:20201101T070000
END:STANDARD
END:VTIMEZONE
BEGIN:VEVENT
DTSTART;VALUE=DATE:20191106
DTEND;VALUE=DATE:20191111
DTSTAMP:20260425T173841
CREATED:20190227T172831Z
LAST-MODIFIED:20191104T232506Z
UID:13387-1572998400-1573430399@rmhc-easternwi.org
SUMMARY:Christmas Fantasy House 2019
DESCRIPTION:Enjoy the magic of the Holiday Season as you tour the expertly decorated Christmas Fantasy House benefiting RMHC Eastern WI. Visit christmasfantasyhouse.com for more information. \nNovember 6 – November 10\nWednesday – Friday 10:00 a.m. to 8:00 p.m.\nSaturday and Sunday 10:00 a.m. to 6:00 p.m. \nParking\nPlease park at the Nagawaukee Park and Ride at Hwy 83 and I-94. Christmas Fantasy House Shuttles will be available to bring you and your guests to the Christmas Fantasy House. To protect the privacy of our neighbors\, we do not release the address of the Christmas Fantasy House and ask that you utilize the shuttles at the Park and Ride to attend the event. \nGroup Tours\nFor Group Tours and ticket pricing\, please email christmasfantasywi@gmail.com. \nGeneral Admission Tickets\nTickets are available at the door. Advance ticket sales have ended. \nIf you have any questions or need special assistance with ticket purchases\, please contact Angela Gilman\, agilman@rmhc-easternwi.org or 414-935-6501.
URL:https://rmhc-easternwi.org/appointments/christmas-fantasy-house-2/
LOCATION:Nagawaukee Park and Ride\, 43.054985\, -88.372764
CATEGORIES:RMHC Events
ORGANIZER;CN="Angela Gilman":MAILTO:agilman@rmhc-easternwi.org
END:VEVENT
BEGIN:VEVENT
DTSTART;TZID=America/Chicago:20190621T183000
DTEND;TZID=America/Chicago:20190621T183000
DTSTAMP:20260425T173841
CREATED:20190515T182611Z
LAST-MODIFIED:20190515T212936Z
UID:13545-1561141800-1561141800@rmhc-easternwi.org
SUMMARY:Meet the Winemaker Dinner
DESCRIPTION:Friday | June 21st | 06:30 PM (CDT)\nBlue’s Egg Milwaukee\, Milwaukee\, WI 53213\n\nThank you for your interest in the Meet the Winemaker Event. Limited tickets remain. To inquire about ticket availability\, please contact Georgia Young\, Special Events Manager at 414-475-0266 or gyoung@rmhc-easternwi.org.
URL:https://rmhc-easternwi.org/appointments/meet-the-winemaker-dinner/
LOCATION:Blue’s Egg\, 317 North 76th\, Milwaukee\, WI\, 53213\, United States
CATEGORIES:RMHC Events
END:VEVENT
BEGIN:VEVENT
DTSTART;TZID=America/Chicago:20190204T173000
DTEND;TZID=America/Chicago:20190204T233000
DTSTAMP:20260425T173841
CREATED:20181119T203928Z
LAST-MODIFIED:20190130T210210Z
UID:13169-1549301400-1549323000@rmhc-easternwi.org
SUMMARY:Chefs' Dinner 2019
DESCRIPTION:Join us at the Wisconsin Club for RMHC Eastern Wisconsin’s annual Chefs’ Dinner on Monday\, February 4th. \nPlease contact Judy McGauran\, Special Events\, with any questions or if you need assistance at jmcgauran@rmhc-easternwi.org or 414.475.0266. \nSponsorship Opportunities \nThe 2019 Chefs’ Dinner is sold out. If you would like to be on the waiting list\, contact Judy McGauran at 414.475.0266. Thank you! \nThank you to our generous sponsors!\nPresenting Sponsor\n \n  \nChef Sponsors\n \n  \nReception Sponsor\n \n  \nTable Sponsors\n \n \n \nShelley Botchek & Friends         Jenny Fotsch         Jake & Kailyn Garro          Dave Lelinski \n  \nPlatinum Sponsors\n \nGold Sponsors\n \nWine Sponsor\n \nCapitol-Husting Co. & The Alevizos Family
URL:https://rmhc-easternwi.org/appointments/chefs-dinner-2019/
LOCATION:Wisconsin Club\,  900 West Wisconsin Avenue\, Milwaukee\, WI\, 53233\, United States
CATEGORIES:RMHC Events
ATTACH;FMTTYPE=image/jpeg:https://rmhc-easternwi.org/wp-content/uploads/2018/11/Chefs-Dinner-2019-Website-Banner.jpg
END:VEVENT
BEGIN:VEVENT
DTSTART;TZID=America/Chicago:20171104T090000
DTEND;TZID=America/Chicago:20171104T090000
DTSTAMP:20260425T173841
CREATED:20170331T180812Z
LAST-MODIFIED:20170331T180812Z
UID:11251-1509786000-1509786000@rmhc-easternwi.org
SUMMARY:2017 Holiday Boutique and Luncheon
DESCRIPTION:Join us on Saturday\, November 4 at the Country Springs Hotel in Waukesha. More details to come!
URL:https://rmhc-easternwi.org/appointments/2017-holiday-boutique-luncheon/
LOCATION:Country Springs Hotel\, 2810 Golf Rd\, Pewaukee\, WI\, 53210\, United States
CATEGORIES:RMHC Events
END:VEVENT
BEGIN:VEVENT
DTSTART;TZID=America/Chicago:20171014T180000
DTEND;TZID=America/Chicago:20171014T180000
DTSTAMP:20260425T173841
CREATED:20170331T181118Z
LAST-MODIFIED:20170914T001130Z
UID:11253-1508004000-1508004000@rmhc-easternwi.org
SUMMARY:2017 RMHC Gala
DESCRIPTION:Please join us on Saturday\, October 14 at the Pfister Hotel in Milwaukee for our annual Gala. \nTo view available Sponsorship Opportunities\, download this PDF! \nIf you have any questions or to get an accessible version of this PDF\, please contact Sara Topp\, Special Events Manager at stopp@rmhcmilwaukee.org or (414)475-0266. \n\nPresenting Sponsor\n \nKeeping Families Close Sponsor\n \n\nTechnology Sponsor\n  \nPrint & Graphics Sponsor\n \nEntertainment Sponsor\n \nTable Sponsor
URL:https://rmhc-easternwi.org/appointments/2017-rmhc-gala/
LOCATION:The Pfister Hotel\, 424 East Wisconsin Ave.\, Milwaukee\, WI\, 53202\, United States
CATEGORIES:RMHC Events
END:VEVENT
BEGIN:VEVENT
DTSTART;TZID=America/Chicago:20170724T113000
DTEND;TZID=America/Chicago:20170724T113000
DTSTAMP:20260425T173841
CREATED:20170317T193635Z
LAST-MODIFIED:20170712T191556Z
UID:11230-1500895800-1500895800@rmhc-easternwi.org
SUMMARY:2017 RMHC Golf Classic
DESCRIPTION:Join us on Monday\, July 24\, 2017 for our 34th Annual RMHC Golf Classic! \nFor sponsorship opportunities\, fill out the form below. \nEarly Bird Special! Register before May 1\, 2017 and get 5 free raffle tickets for each player you register! \nSignage Sponsor\n \nGolf Cart Sponsors\n  \n\nBirdie Sponsors\n \n\nHole Sponsors \n\n\n\nBall Washer Sponsors\n \n\n\n Ball Launcher Sponsor\n\n\n\n Helicopter Ball Drop Sponsor
URL:https://rmhc-easternwi.org/appointments/2017-rmhc-golf-classic/
LOCATION:Ironwood Golf Club\, W270N6166 Moraine Drive\, Sussex\, WI\, 53089\, United States
CATEGORIES:RMHC Events
ORGANIZER;CN="Sara Topp":MAILTO:stopp@rmhc-easternwi.org
END:VEVENT
END:VCALENDAR